BEGIN:VCALENDAR
VERSION:2.0
PRODID:-//Metralla Sonora - ECPv6.15.20//NONSGML v1.0//EN
CALSCALE:GREGORIAN
METHOD:PUBLISH
X-ORIGINAL-URL:https://metrallasonora.com
X-WR-CALDESC:Events for Metralla Sonora
REFRESH-INTERVAL;VALUE=DURATION:PT1H
X-Robots-Tag:noindex
X-PUBLISHED-TTL:PT1H
BEGIN:VTIMEZONE
TZID:UTC
BEGIN:STANDARD
TZOFFSETFROM:+0000
TZOFFSETTO:+0000
TZNAME:UTC
DTSTART:20230101T000000
END:STANDARD
END:VTIMEZONE
BEGIN:VEVENT
DTSTART;TZID=UTC:20241220T223000
DTEND;TZID=UTC:20241221T000000
DTSTAMP:20260426T013635
CREATED:20241219T183813Z
LAST-MODIFIED:20241219T183813Z
UID:1081-1734733800-1734739200@metrallasonora.com
SUMMARY:Fuzz Faces na Cream
DESCRIPTION:  \n  \n  \n  \n  \n  \n  \n  \nBolo rockeiro dos Los Fuzz Faces na Cream. \nEntrada por billeteira inversa.
URL:https://metrallasonora.com/event/fuzz-faces-na-cream/
LOCATION:Sala Cream\, Avenida Doutor Moreira Casal nº4 Baixo\, Vilagarcia de Arousa\, Pontevedra\, 36600\, Spain
CATEGORIES:Vilagarcía de Arousa
END:VEVENT
END:VCALENDAR